BEGIN:VCALENDAR
VERSION:2.0
PRODID:-// - ECPv6.15.20//NONSGML v1.0//EN
CALSCALE:GREGORIAN
METHOD:PUBLISH
X-ORIGINAL-URL:https://carmelwomansclubca.org
X-WR-CALDESC:Events for 
REFRESH-INTERVAL;VALUE=DURATION:PT1H
X-Robots-Tag:noindex
X-PUBLISHED-TTL:PT1H
BEGIN:VTIMEZONE
TZID:America/Los_Angeles
BEGIN:DAYLIGHT
TZOFFSETFROM:-0800
TZOFFSETTO:-0700
TZNAME:PDT
DTSTART:20250309T100000
END:DAYLIGHT
BEGIN:STANDARD
TZOFFSETFROM:-0700
TZOFFSETTO:-0800
TZNAME:PST
DTSTART:20251102T090000
END:STANDARD
BEGIN:DAYLIGHT
TZOFFSETFROM:-0800
TZOFFSETTO:-0700
TZNAME:PDT
DTSTART:20260308T100000
END:DAYLIGHT
BEGIN:STANDARD
TZOFFSETFROM:-0700
TZOFFSETTO:-0800
TZNAME:PST
DTSTART:20261101T090000
END:STANDARD
BEGIN:DAYLIGHT
TZOFFSETFROM:-0800
TZOFFSETTO:-0700
TZNAME:PDT
DTSTART:20270314T100000
END:DAYLIGHT
BEGIN:STANDARD
TZOFFSETFROM:-0700
TZOFFSETTO:-0800
TZNAME:PST
DTSTART:20271107T090000
END:STANDARD
END:VTIMEZONE
BEGIN:VEVENT
DTSTART;TZID=America/Los_Angeles:20260420T140000
DTEND;TZID=America/Los_Angeles:20260420T160000
DTSTAMP:20260420T010337
CREATED:20250825T041413Z
LAST-MODIFIED:20251218T023813Z
UID:6307-1776693600-1776700800@carmelwomansclubca.org
SUMMARY:Grete Pederson ~ Carmel Bach Festival Artistic Director and Principal Conductor
DESCRIPTION:Grete Pederson will present “Strong Leadership and a Loving Hand”. Grete Pederson is the Carmel Bach Festival Artistic Director and Principal Conductor. Grete will share her journey from Europe to the Carmel Bach Festival stage. \nCoffee and tea will be served following the program complete with tea sandwiches and desserts.  Open to the public. \nMembers ~ Free   Guests ~ $10
URL:https://carmelwomansclubca.org/event/cwc-program-5/
CATEGORIES:CWC Events,Upcoming Events
ATTACH;FMTTYPE=image/jpeg:https://carmelwomansclubca.org/wp-content/uploads/2025/08/Grete-Pedersen-by-Randy-Tunnell_10.jpg
END:VEVENT
BEGIN:VEVENT
DTSTART;TZID=America/Los_Angeles:20260504T113000
DTEND;TZID=America/Los_Angeles:20260504T143000
DTSTAMP:20260420T010337
CREATED:20250825T041541Z
LAST-MODIFIED:20260310T002113Z
UID:6309-1777894200-1777905000@carmelwomansclubca.org
SUMMARY:CWC Fashion Show
DESCRIPTION:https://carmelwomansclub.ticketspice.com/cwc-fs-2026
URL:https://carmelwomansclubca.org/event/cwc-fashion-show-save-the-date/
LOCATION:Wedgewood Events\, 4860 Carmel Valley Rd.\, Carmel\, CA\, 93923
CATEGORIES:CWC Events,Upcoming Events
ATTACH;FMTTYPE=image/jpeg:https://carmelwomansclubca.org/wp-content/uploads/2025/08/My-design_1771372376377-scaled.jpeg
END:VEVENT
BEGIN:VEVENT
DTSTART;TZID=America/Los_Angeles:20260518T140000
DTEND;TZID=America/Los_Angeles:20260518T160000
DTSTAMP:20260420T010337
CREATED:20250825T041719Z
LAST-MODIFIED:20251218T023416Z
UID:6311-1779112800-1779120000@carmelwomansclubca.org
SUMMARY:"Healthy Cognitive Aging" - Dr. Quinn Kennedy
DESCRIPTION:Dr. Kennedy explains and shares studies that demonstrate ways to stave off and maintain good cognitive function as we age. \nCoffee and tea will be served following the program complete with tea sandwiches and desserts.  Open to the public. \nMembers ~ Free   Guests ~ $10
URL:https://carmelwomansclubca.org/event/healthy_cognitive_aging/
LOCATION:Carmel Woman’s Club\, 9th Avenue\, Carmel-by-the-Sea\, CA\, 93921\, United States
CATEGORIES:CWC Events,Upcoming Events
ATTACH;FMTTYPE=image/jpeg:https://carmelwomansclubca.org/wp-content/uploads/2025/08/Quinn-Kennedy-Retirement-Speaker-200.jpg
END:VEVENT
END:VCALENDAR